BEGIN:VCALENDAR
VERSION:2.0
PRODID:-//Eventin//Event Calendar//EN
CALSCALE:GREGORIAN
METHOD:PUBLISH
BEGIN:VEVENT
UID:941d63136d06424ead019abc6ab1c337@citykleta.org
SUMMARY:Taller Instructivo Para Reparaciones Básicas
DESCRIPTION:Un espacio práctico para aprender a cuidar y mantener tu bicic
 leta en óptimas condiciones. Este taller\, impartido por Yoel\, cubre los 
 conocimientos esenciales que todo ciclista necesita para resolver situacion
 es cotidianas en la calle y alargar la vida útil de su bici.\n¿Qué apren
 derás?\nAprenderás a usar correctamente los cambios para pedalear con may
 or eficiencia y reducir el desgaste de los componentes. Verás cómo ajusta
 r la bicicleta a tu cuerpo para recorrer largas distancias con comodidad. P
 racticarás la reparación de ponche con demostración incluida\, paso a pa
 so. Identificarás los problemas más comunes en los frenos de disco y cono
 cerás los ajustes básicos para resolverlos en el momento.
LOCATION:Parque Víctor Hugo\, Vedado (calle I e/ 21 y 19)
DTSTAMP:20260423T010809Z
DTSTART:20260424T200000Z
DTEND:20260424T220000Z
END:VEVENT
END:VCALENDAR
