BEGIN:VCALENDAR
VERSION:2.0
PRODID:-//Eventin//Event Calendar//EN
CALSCALE:GREGORIAN
METHOD:PUBLISH
BEGIN:VEVENT
UID:6737da22e58c222500f25e989675d48a@citykleta.org
SUMMARY:Escapada Exprés
DESCRIPTION:Workout en bici sobre terreno mixto: pavimento\, tierra\, grava
 \, etc. \n\n\n\nCon la Escapada Exprés puedes ejercitar en la bicicleta p
 edaleando en grupo por terrenos gravel y conectar con más ciclistas.\n\n\n
 \nObjetivos \n\n\n\nPedalear durante ~2 horas en movimiento en grupos difer
 enciados: \n\n\n\nA: 18 – 22 km/h | 36-44 km\;  \n\n\n\nB: 22-26 km/h | 
 44-52 km\; \n\n\n\nC: 26-30 km/h | 52-60 km\; \n\n\n\nD: 30-34 km/h | 60-68
  km/h.\n\n\n\nItinerarios\n\n\n\n\n\n\n\nAfter*: Al concluir la ruta\, ir a
  un sitio en Vedado para compartir   y dar muela .\n\n\n\nCómo participar\
 n\n\n\n📍Encuentro: Parque Víctor Hugo calle 21 entre calle H y calle I\
 , Vedado.\n\n\n\n Salida: 3:00 PM.\n\n\n\nRequisitos \n\n\n\n Haber recorri
 do dichas distancias con anterioridad.\n\n\n\n Bici en buen estado (gomas\,
  cambios\, asiento\, etc.).\n\n\n\n Casco\, obligatorio.\n\n\n\n Agua sufic
 iente.\n\n\n\n Kit básico de reparación: ponches fríos\, mini tool\, etc
 . (opcional).\n\n\n\nCómo funciona \n\n\n\n Abre el itinerario y chequea l
 as paradas.\n\n\n\n Las paradas sirven para tomar agua y reagruparse.\n\n\n
 \n Si algo falla (tú o tu bici) y necesitas asistencia\, avísanos en la c
 omunidad de WhatsApp.\n\n\n\n Mantén el respeto:  No hagas comentarios\, n
 i des consejos que no te hayan pedido. Queremos que todxs se sientan comodx
 s. Al final del recorrido tendremos tiempo para conversar.\n\n\n\n El terre
 no tiene pavimento\, baches y gravilla\, por lo que recomendamos usar gomas
  gordas ( 40+ mm).\n\n\n\n 
LOCATION:Parque Víctor Hugo\, Vedado
DTSTAMP:20260422T130332Z
DTSTART:20260620T190000Z
DTEND:20260621T000000Z
END:VEVENT
END:VCALENDAR
